BEGIN:VCALENDAR
VERSION:2.0
PRODID:-//wp-events-plugin.com//7.2.3.1//EN
BEGIN:VEVENT
UID:63@virginiagleeclub.org
DTSTART:20180303T000000Z
DTEND:20180311T000000Z
DTSTAMP:20180307T201149Z
URL:https://virginiagleeclub.org/events/2018-tour-of-the-carolinas/
SUMMARY:2018 Tour of the Carolinas
DESCRIPTION:TOUR 2018 begins with a featured performance at the Intercolleg
 iate Men's Choruses National Seminar held at the historic National City Ch
 ristian Church in Washington\, DC\, in the first weekend of March.\nPlans 
 include concerts in the following cities.\nAll concerts are free and open 
 to the public.\n(Tours can be unpredictable\, but we're hoping for no bus 
 breakdowns this year.\nWatch this space for changes before you head out to
  a concert!)\nSaturday\, March 3\, 2018\nIntercollegiate Men’s Choruses 
 National Seminar\nNational City Christian Church\n5 Thomas Circle NW\nWash
 ington\, DC 20005\n7:30 p.m.\nSunday\, March 4\, 2018\nSt. Paul’s Luther
 an Church\n7426 Idylwood Rd.\nFalls Church\, VA 22043\n4:00 p.m.\nMonday\,
  March 5\, 2018\nBinkley Baptist Church\n1712 Willow Dr.\nChapel Hill\, NC
  27514\n7:00 p.m.\nTuesday\, March 6\, 2018\nShallotte Presbyterian Church
 \n5070 Main Street\nShallotte\, NC 28470\n7:00 p.m.\nThursday\, March 8\, 
 2018\nMatthews United Methodist Church\n801 South Trade Street\nMatthews\,
  NC 28105\n7:00 p.m.\nFriday\, March 9\, 2018\nSt. John’s Episcopal Chur
 ch\n1 Mountain Ave.\nRoanoke\, VA  24016\n6:00 p.m.\nPlease spread the wo
 rd to alumni and friends along our route\, and visit our Donations page to
  lend a helping hand.  We look forward to seeing you soon!\n\nContact the
  VGC Tour Manager\, Colin Sullivan\, at tour@virginiagleeclub.org!\n\nFoll
 ow the action via Frank's Famous Tour Blog!
ATTACH;FMTTYPE=image/jpeg:https://virginiagleeclub.org/wp-content/uploads/
 2017/11/2018-Virginia-Glee-Club-Tour-poster-square.png
END:VEVENT
END:VCALENDAR